BEGIN:VCALENDAR
VERSION:2.0
PRODID:-//MIT GradEl - ECPv6.15.20//NONSGML v1.0//EN
CALSCALE:GREGORIAN
METHOD:PUBLISH
X-ORIGINAL-URL:http://gradel.mit.edu
X-WR-CALDESC:Events for MIT GradEl
REFRESH-INTERVAL;VALUE=DURATION:PT1H
X-Robots-Tag:noindex
X-PUBLISHED-TTL:PT1H
BEGIN:VTIMEZONE
TZID:America/New_York
BEGIN:DAYLIGHT
TZOFFSETFROM:-0500
TZOFFSETTO:-0400
TZNAME:EDT
DTSTART:20240310T070000
END:DAYLIGHT
BEGIN:STANDARD
TZOFFSETFROM:-0400
TZOFFSETTO:-0500
TZNAME:EST
DTSTART:20241103T060000
END:STANDARD
BEGIN:DAYLIGHT
TZOFFSETFROM:-0500
TZOFFSETTO:-0400
TZNAME:EDT
DTSTART:20250309T070000
END:DAYLIGHT
BEGIN:STANDARD
TZOFFSETFROM:-0400
TZOFFSETTO:-0500
TZNAME:EST
DTSTART:20251102T060000
END:STANDARD
BEGIN:DAYLIGHT
TZOFFSETFROM:-0500
TZOFFSETTO:-0400
TZNAME:EDT
DTSTART:20260308T070000
END:DAYLIGHT
BEGIN:STANDARD
TZOFFSETFROM:-0400
TZOFFSETTO:-0500
TZNAME:EST
DTSTART:20261101T060000
END:STANDARD
END:VTIMEZONE
BEGIN:VEVENT
DTSTART;TZID=America/New_York:20251003T100000
DTEND;TZID=America/New_York:20251003T120000
DTSTAMP:20260422T093847
CREATED:20250808T201228Z
LAST-MODIFIED:20250916T133813Z
UID:10000006-1759485600-1759492800@gradel.mit.edu
SUMMARY:The Science of Charisma: First Impressions
DESCRIPTION:Location: Meet at Room 5-234 (Workshop will take place in Rooms 5-134 and 5-234.) \nYou only get one chance to make the right first impression. Within a few seconds\, people judge your level of intelligence\, trustworthiness\, friendliness and social success. This happens in an instant\, yet can impact the way you’re perceived from then on. How can you make sure you never miss\, especially when the stakes are high? \nThis practical workshop will give you concrete tools to make great first impressions both online and IRL\, using researched-based science on which actions are effective and why. (References and links to research papers will be shared at the end of the workshop.) You’ll learn exactly how to give a great handshake\, avoid the common pitfalls of the “engineer voice profile”\, emanate the body language of a good friend\, and discover how to select and use the mic and signal-compression technologies of online calls properly. \nLeaders: \nDr. Oliver Niebuhr is Associate Professor of Communication and Innovation at the University of Southern Denmark where he heads the Acoustics Lab in the Department of Mechanical and Electrical Engineering. His research specializes in charismatic communication. Professor Niebuhr has authored more than 150 peer-reviewed publications over the course of 20 years of research and is Exec Secretary of the International Phonetic Association. \nOlivia Fox Cabane is the bestselling author of The Charisma Myth\, which has been translated into 36 languages. Previously Director of Innovative Leadership for Stanford StartX\, she has lectured on charisma at Harvard\, Yale\, the Marine War College and the United Nations. Her clients include Deloitte\, UBS\, Google\, Tiktok\, and Airbnb. \n\nRegister for This Workshop\nAdd this workshop to your calendar using the “Add to Calendar” link below. (That does not register you for the workshop. Use the above link to register.) \nThis workshop counts toward the requirements for GradEL’s Graduate Certificate in Technical Leadership.
URL:http://gradel.mit.edu/event/the-science-of-charisma-first-impressions/
LOCATION:Room 5-234\, 55 Massachusetts Avenue\, Cambridge\, MA\, 02139\, United States
CATEGORIES:Workshop
ATTACH;FMTTYPE=image/png:http://gradel.mit.edu/wp-content/uploads/2025/08/Untitled-Presentation-e1756763259337.png
END:VEVENT
BEGIN:VEVENT
DTSTART;TZID=America/New_York:20251030T170000
DTEND;TZID=America/New_York:20251030T190000
DTSTAMP:20260422T093847
CREATED:20250916T124250Z
LAST-MODIFIED:20250916T140628Z
UID:10000011-1761843600-1761850800@gradel.mit.edu
SUMMARY:Systems Thinking for Technical Leadership
DESCRIPTION:Location: Room 32-144 \nAs engineers\, we are trained to think about physical systems\, but technical leadership involves navigating complex social structures as well. In this workshop\, we will explore how systems thinking tools can help leaders to integrate social and technical considerations\, and support interdisciplinary collaboration and decision making with a particular focus on sustainability. \nLeader:\nDr. Emily Moore is a leader in engineering education and leadership development\, serving as the Director of the Troost Institute for Leadership Education (ILead) at the University of Toronto. Before joining U of T\, Dr. Moore spent over two decades in industry\, first at the Xerox Research Centre of Canada where she scaled lab innovations to manufacturing\, and later at Hatch\, where she held leadership roles including Director of Technology Development. As a Rhodes Scholar with a BEng in Engineering Chemistry from Queen’s University and a DPhil in Physical Chemistry from Oxford University\, Dr. Moore combines technical depth with leadership insight. Her awards include being named one of “100 Global Inspirational Women in Mining” and receiving the SCI Canada Kalev Pugi Award\, highlighting her commitment to equity and innovation in engineering. \n\nRegister for This Workshop\nAdd this workshop to your calendar using the “Add to Calendar” link below. (That does not register you for the workshop. Use the above link to register.) \nThis workshop counts toward the requirements for GradEL’s Graduate Certificate in Technical Leadership. \n 
URL:http://gradel.mit.edu/event/systems-thinking-for-technical-leadership/
LOCATION:Room 32-144\, 32 Vassar St.\, Cambridge\, MA\, 02139\, United States
CATEGORIES:Workshop
ATTACH;FMTTYPE=image/jpeg:http://gradel.mit.edu/wp-content/uploads/2025/09/EmilyMoore2-e1758030747118.jpeg
END:VEVENT
END:VCALENDAR