BEGIN:VCALENDAR
VERSION:2.0
PRODID:-//MIT GradEl - ECPv6.15.20//NONSGML v1.0//EN
CALSCALE:GREGORIAN
METHOD:PUBLISH
X-ORIGINAL-URL:http://gradel.mit.edu
X-WR-CALDESC:Events for MIT GradEl
REFRESH-INTERVAL;VALUE=DURATION:PT1H
X-Robots-Tag:noindex
X-PUBLISHED-TTL:PT1H
BEGIN:VTIMEZONE
TZID:America/New_York
BEGIN:DAYLIGHT
TZOFFSETFROM:-0500
TZOFFSETTO:-0400
TZNAME:EDT
DTSTART:20240310T070000
END:DAYLIGHT
BEGIN:STANDARD
TZOFFSETFROM:-0400
TZOFFSETTO:-0500
TZNAME:EST
DTSTART:20241103T060000
END:STANDARD
BEGIN:DAYLIGHT
TZOFFSETFROM:-0500
TZOFFSETTO:-0400
TZNAME:EDT
DTSTART:20250309T070000
END:DAYLIGHT
BEGIN:STANDARD
TZOFFSETFROM:-0400
TZOFFSETTO:-0500
TZNAME:EST
DTSTART:20251102T060000
END:STANDARD
BEGIN:DAYLIGHT
TZOFFSETFROM:-0500
TZOFFSETTO:-0400
TZNAME:EDT
DTSTART:20260308T070000
END:DAYLIGHT
BEGIN:STANDARD
TZOFFSETFROM:-0400
TZOFFSETTO:-0500
TZNAME:EST
DTSTART:20261101T060000
END:STANDARD
END:VTIMEZONE
BEGIN:VEVENT
DTSTART;TZID=America/New_York:20250924T120000
DTEND;TZID=America/New_York:20250924T130000
DTSTAMP:20260422T181318
CREATED:20250915T160559Z
LAST-MODIFIED:20250923T185341Z
UID:10000008-1758715200-1758718800@gradel.mit.edu
SUMMARY:Northrop Grumman + GradEL Engineering Residency Info Session
DESCRIPTION:Join us for this virtual info session hosted by GradEL about our upcoming Northrop Grumman internship opportunities!  \nClick here to register for virtual info session. \nThe GradEL Engineering Residency is a six-month\, high-impact internship experience that allows students to put their classroom learning into practice as a team member at a leading company. \nParticipants not only gain valuable real-world on-the-job experience during their internship—they are also supported by supplemental learning programs and one-on-one coaching to help them learn and apply key engineering leadership capabilities in real time.
URL:http://gradel.mit.edu/event/northrop-grumman-gradel-engineering-residency-info-session/
CATEGORIES:Info Session
ATTACH;FMTTYPE=image/png:http://gradel.mit.edu/wp-content/uploads/2025/09/Untitled-design-6.png
END:VEVENT
END:VCALENDAR