BEGIN:VCALENDAR
VERSION:2.0
PRODID:-//MIT GradEl - ECPv6.15.20//NONSGML v1.0//EN
CALSCALE:GREGORIAN
METHOD:PUBLISH
X-ORIGINAL-URL:http://gradel.mit.edu
X-WR-CALDESC:Events for MIT GradEl
REFRESH-INTERVAL;VALUE=DURATION:PT1H
X-Robots-Tag:noindex
X-PUBLISHED-TTL:PT1H
BEGIN:VTIMEZONE
TZID:America/New_York
BEGIN:DAYLIGHT
TZOFFSETFROM:-0500
TZOFFSETTO:-0400
TZNAME:EDT
DTSTART:20240310T070000
END:DAYLIGHT
BEGIN:STANDARD
TZOFFSETFROM:-0400
TZOFFSETTO:-0500
TZNAME:EST
DTSTART:20241103T060000
END:STANDARD
BEGIN:DAYLIGHT
TZOFFSETFROM:-0500
TZOFFSETTO:-0400
TZNAME:EDT
DTSTART:20250309T070000
END:DAYLIGHT
BEGIN:STANDARD
TZOFFSETFROM:-0400
TZOFFSETTO:-0500
TZNAME:EST
DTSTART:20251102T060000
END:STANDARD
BEGIN:DAYLIGHT
TZOFFSETFROM:-0500
TZOFFSETTO:-0400
TZNAME:EDT
DTSTART:20260308T070000
END:DAYLIGHT
BEGIN:STANDARD
TZOFFSETFROM:-0400
TZOFFSETTO:-0500
TZNAME:EST
DTSTART:20261101T060000
END:STANDARD
END:VTIMEZONE
BEGIN:VEVENT
DTSTART;TZID=America/New_York:20251114T100000
DTEND;TZID=America/New_York:20251114T120000
DTSTAMP:20260419T081944
CREATED:20250916T140241Z
LAST-MODIFIED:20251113T135835Z
UID:10000012-1763114400-1763121600@gradel.mit.edu
SUMMARY:Persuasive Communication for Technical Leaders
DESCRIPTION:Location: Room 9-354 \nHow do you get others to act on your ideas? \nIn this interactive GradEL workshop\, you’ll learn and practice persuasive communication strategies that technical leaders use every day – whether it’s advocating for resources\, influencing design decisions\, or navigating tough conversations. Come ready to experiment with communication frameworks that will sharpen your ability to make your voice heard and your ideas stick. \nThis workshop offers a preview of the upcoming Spring GradEL course 6.S650 Persuasive Communication for Technical Leaders – giving you the chance to experience the skills in action and discover why you’ll want to master it next semester. \nLeader:  \nRachel Moore Best is passionate about translating skills\, frameworks\, and proven theory into actionable guidance for her students’ and clients’ current challenges. Her dynamic\, hands-on approach to education has led her to teach in multiple arenas\, including graduate-level negotiation courses for MIT\, creative university programs\, youth conferences\, government agencies\, and corporate audiences. Along with her work as an educator\, Rachel is an experienced strategist and the founder of The Human Factor\, a strategy firm focused on equipping organizations to negotiate the challenges of change within complex ecosystems. In this work\, Rachel works with individuals from the executional level to the c-suite as they negotiate conflicting goals\, organizational complexity\, and human dynamics to close deals and form effective\, sustainable teams. Her notable clients include Disney\, NASA\, and Boston Children’s Hospital. \n\nRegister for This Workshop\nAdd this workshop to your calendar using the “Add to Calendar” link below. (That does not register you for the workshop. Use the above link to register.) \nThis workshop counts toward the requirements for GradEL’s Graduate Certificate in Technical Leadership.
URL:http://gradel.mit.edu/event/persuasive-communication-for-technical-leaders/
LOCATION:Room 9-354\, 105 Massachusetts Avenue\, Cambridge\, MA\, 02139\, United States
CATEGORIES:Workshop
ATTACH;FMTTYPE=image/jpeg:http://gradel.mit.edu/wp-content/uploads/2024/12/IMG_3449-scaled-e1758031435169.jpg
END:VEVENT
END:VCALENDAR